BEGIN:VCALENDAR
VERSION:2.0
PRODID:-//LiUNA! Local 154 - ECPv6.15.20//NONSGML v1.0//EN
CALSCALE:GREGORIAN
METHOD:PUBLISH
X-ORIGINAL-URL:https://laborerslocal154.org
X-WR-CALDESC:Events for LiUNA! Local 154
REFRESH-INTERVAL;VALUE=DURATION:PT1H
X-Robots-Tag:noindex
X-PUBLISHED-TTL:PT1H
BEGIN:VTIMEZONE
TZID:America/Chicago
BEGIN:DAYLIGHT
TZOFFSETFROM:-0600
TZOFFSETTO:-0500
TZNAME:CDT
DTSTART:20250309T080000
END:DAYLIGHT
BEGIN:STANDARD
TZOFFSETFROM:-0500
TZOFFSETTO:-0600
TZNAME:CST
DTSTART:20251102T070000
END:STANDARD
BEGIN:DAYLIGHT
TZOFFSETFROM:-0600
TZOFFSETTO:-0500
TZNAME:CDT
DTSTART:20260308T080000
END:DAYLIGHT
BEGIN:STANDARD
TZOFFSETFROM:-0500
TZOFFSETTO:-0600
TZNAME:CST
DTSTART:20261101T070000
END:STANDARD
BEGIN:DAYLIGHT
TZOFFSETFROM:-0600
TZOFFSETTO:-0500
TZNAME:CDT
DTSTART:20270314T080000
END:DAYLIGHT
BEGIN:STANDARD
TZOFFSETFROM:-0500
TZOFFSETTO:-0600
TZNAME:CST
DTSTART:20271107T070000
END:STANDARD
BEGIN:DAYLIGHT
TZOFFSETFROM:-0600
TZOFFSETTO:-0500
TZNAME:CDT
DTSTART:20280312T080000
END:DAYLIGHT
BEGIN:STANDARD
TZOFFSETFROM:-0500
TZOFFSETTO:-0600
TZNAME:CST
DTSTART:20281105T070000
END:STANDARD
END:VTIMEZONE
BEGIN:VEVENT
DTSTART;TZID=America/Chicago:20260806T190000
DTEND;TZID=America/Chicago:20260806T200000
DTSTAMP:20260422T164906
CREATED:20241021T211704Z
LAST-MODIFIED:20251022T155556Z
UID:10000109-1786042800-1786046400@laborerslocal154.org
SUMMARY:Retiree Council
DESCRIPTION:
URL:https://laborerslocal154.org/event/retiree-council/2026-08-06/
LOCATION:LiUNA! 154 Union Hall\, 1110 West Pioneer Prkwy\, Suite 100\, Arlington\, TX\, 76013\, United States
END:VEVENT
BEGIN:VEVENT
DTSTART;TZID=America/Chicago:20260811T190000
DTEND;TZID=America/Chicago:20260811T203000
DTSTAMP:20260422T164906
CREATED:20241021T211027Z
LAST-MODIFIED:20251022T155523Z
UID:10000049-1786474800-1786480200@laborerslocal154.org
SUMMARY:Union Meeting
DESCRIPTION:
URL:https://laborerslocal154.org/event/union-meeting/2026-08-11/
LOCATION:LiUNA! 154 Union Hall\, 1110 West Pioneer Prkwy\, Suite 100\, Arlington\, TX\, 76013\, United States
ATTACH;FMTTYPE=image/png:https://laborerslocal154.org/wp-content/uploads/2023/02/liuna-logo_local154.png
END:VEVENT
BEGIN:VEVENT
DTSTART;TZID=America/Chicago:20260903T190000
DTEND;TZID=America/Chicago:20260903T200000
DTSTAMP:20260422T164906
CREATED:20241021T211704Z
LAST-MODIFIED:20251022T155556Z
UID:10000110-1788462000-1788465600@laborerslocal154.org
SUMMARY:Retiree Council
DESCRIPTION:
URL:https://laborerslocal154.org/event/retiree-council/2026-09-03/
LOCATION:LiUNA! 154 Union Hall\, 1110 West Pioneer Prkwy\, Suite 100\, Arlington\, TX\, 76013\, United States
END:VEVENT
BEGIN:VEVENT
DTSTART;VALUE=DATE:20260907
DTEND;VALUE=DATE:20260908
DTSTAMP:20260422T164906
CREATED:20251022T155741Z
LAST-MODIFIED:20251022T155741Z
UID:10000170-1788739200-1788825599@laborerslocal154.org
SUMMARY:Labor Day
DESCRIPTION:
URL:https://laborerslocal154.org/event/labor-day/2026-09-07/
END:VEVENT
BEGIN:VEVENT
DTSTART;TZID=America/Chicago:20260908T190000
DTEND;TZID=America/Chicago:20260908T203000
DTSTAMP:20260422T164906
CREATED:20241021T211027Z
LAST-MODIFIED:20251022T155523Z
UID:10000050-1788894000-1788899400@laborerslocal154.org
SUMMARY:Union Meeting
DESCRIPTION:
URL:https://laborerslocal154.org/event/union-meeting/2026-09-08/
LOCATION:LiUNA! 154 Union Hall\, 1110 West Pioneer Prkwy\, Suite 100\, Arlington\, TX\, 76013\, United States
ATTACH;FMTTYPE=image/png:https://laborerslocal154.org/wp-content/uploads/2023/02/liuna-logo_local154.png
END:VEVENT
BEGIN:VEVENT
DTSTART;TZID=America/Chicago:20261001T190000
DTEND;TZID=America/Chicago:20261001T200000
DTSTAMP:20260422T164906
CREATED:20241021T211704Z
LAST-MODIFIED:20251022T155556Z
UID:10000111-1790881200-1790884800@laborerslocal154.org
SUMMARY:Retiree Council
DESCRIPTION:
URL:https://laborerslocal154.org/event/retiree-council/2026-10-01/
LOCATION:LiUNA! 154 Union Hall\, 1110 West Pioneer Prkwy\, Suite 100\, Arlington\, TX\, 76013\, United States
END:VEVENT
BEGIN:VEVENT
DTSTART;TZID=America/Chicago:20261013T190000
DTEND;TZID=America/Chicago:20261013T203000
DTSTAMP:20260422T164906
CREATED:20241021T211027Z
LAST-MODIFIED:20251022T155523Z
UID:10000051-1791918000-1791923400@laborerslocal154.org
SUMMARY:Union Meeting
DESCRIPTION:
URL:https://laborerslocal154.org/event/union-meeting/2026-10-13/
LOCATION:LiUNA! 154 Union Hall\, 1110 West Pioneer Prkwy\, Suite 100\, Arlington\, TX\, 76013\, United States
ATTACH;FMTTYPE=image/png:https://laborerslocal154.org/wp-content/uploads/2023/02/liuna-logo_local154.png
END:VEVENT
BEGIN:VEVENT
DTSTART;TZID=America/Chicago:20261105T190000
DTEND;TZID=America/Chicago:20261105T200000
DTSTAMP:20260422T164906
CREATED:20241021T211704Z
LAST-MODIFIED:20251022T155556Z
UID:10000112-1793905200-1793908800@laborerslocal154.org
SUMMARY:Retiree Council
DESCRIPTION:
URL:https://laborerslocal154.org/event/retiree-council/2026-11-05/
LOCATION:LiUNA! 154 Union Hall\, 1110 West Pioneer Prkwy\, Suite 100\, Arlington\, TX\, 76013\, United States
END:VEVENT
BEGIN:VEVENT
DTSTART;TZID=America/Chicago:20261110T190000
DTEND;TZID=America/Chicago:20261110T203000
DTSTAMP:20260422T164906
CREATED:20241021T211027Z
LAST-MODIFIED:20251022T155523Z
UID:10000052-1794337200-1794342600@laborerslocal154.org
SUMMARY:Union Meeting
DESCRIPTION:
URL:https://laborerslocal154.org/event/union-meeting/2026-11-10/
LOCATION:LiUNA! 154 Union Hall\, 1110 West Pioneer Prkwy\, Suite 100\, Arlington\, TX\, 76013\, United States
ATTACH;FMTTYPE=image/png:https://laborerslocal154.org/wp-content/uploads/2023/02/liuna-logo_local154.png
END:VEVENT
BEGIN:VEVENT
DTSTART;VALUE=DATE:20261111
DTEND;VALUE=DATE:20261112
DTSTAMP:20260422T164906
CREATED:20251022T155629Z
LAST-MODIFIED:20251022T155629Z
UID:10000161-1794355200-1794441599@laborerslocal154.org
SUMMARY:Veterans Day
DESCRIPTION:
URL:https://laborerslocal154.org/event/veterans-day/2026-11-11/
END:VEVENT
BEGIN:VEVENT
DTSTART;VALUE=DATE:20261126
DTEND;VALUE=DATE:20261127
DTSTAMP:20260422T164906
CREATED:20241019T152116Z
LAST-MODIFIED:20251022T155456Z
UID:10000036-1795651200-1795737599@laborerslocal154.org
SUMMARY:Thanksgiving
DESCRIPTION:
URL:https://laborerslocal154.org/event/thanksgiving/2026-11-26/
END:VEVENT
BEGIN:VEVENT
DTSTART;TZID=America/Chicago:20261203T190000
DTEND;TZID=America/Chicago:20261203T200000
DTSTAMP:20260422T164907
CREATED:20241021T211704Z
LAST-MODIFIED:20251022T155556Z
UID:10000113-1796324400-1796328000@laborerslocal154.org
SUMMARY:Retiree Council
DESCRIPTION:
URL:https://laborerslocal154.org/event/retiree-council/2026-12-03/
LOCATION:LiUNA! 154 Union Hall\, 1110 West Pioneer Prkwy\, Suite 100\, Arlington\, TX\, 76013\, United States
END:VEVENT
BEGIN:VEVENT
DTSTART;TZID=America/Chicago:20261208T190000
DTEND;TZID=America/Chicago:20261208T203000
DTSTAMP:20260422T164907
CREATED:20241021T211027Z
LAST-MODIFIED:20251022T155523Z
UID:10000053-1796756400-1796761800@laborerslocal154.org
SUMMARY:Union Meeting
DESCRIPTION:
URL:https://laborerslocal154.org/event/union-meeting/2026-12-08/
LOCATION:LiUNA! 154 Union Hall\, 1110 West Pioneer Prkwy\, Suite 100\, Arlington\, TX\, 76013\, United States
ATTACH;FMTTYPE=image/png:https://laborerslocal154.org/wp-content/uploads/2023/02/liuna-logo_local154.png
END:VEVENT
BEGIN:VEVENT
DTSTART;VALUE=DATE:20261225
DTEND;VALUE=DATE:20261226
DTSTAMP:20260422T164907
CREATED:20241118T162928Z
LAST-MODIFIED:20251022T155437Z
UID:10000031-1798156800-1798243199@laborerslocal154.org
SUMMARY:Christmas
DESCRIPTION:
URL:https://laborerslocal154.org/event/christmas/2026-12-25/
END:VEVENT
BEGIN:VEVENT
DTSTART;VALUE=DATE:20270101
DTEND;VALUE=DATE:20270102
DTSTAMP:20260422T164907
CREATED:20251022T155701Z
LAST-MODIFIED:20251022T155701Z
UID:10000166-1798761600-1798847999@laborerslocal154.org
SUMMARY:New Year's Day
DESCRIPTION:
URL:https://laborerslocal154.org/event/new-years-day/2027-01-01/
END:VEVENT
BEGIN:VEVENT
DTSTART;TZID=America/Chicago:20270107T190000
DTEND;TZID=America/Chicago:20270107T200000
DTSTAMP:20260422T164907
CREATED:20241021T211704Z
LAST-MODIFIED:20251022T155556Z
UID:10000114-1799348400-1799352000@laborerslocal154.org
SUMMARY:Retiree Council
DESCRIPTION:
URL:https://laborerslocal154.org/event/retiree-council/2027-01-07/
LOCATION:LiUNA! 154 Union Hall\, 1110 West Pioneer Prkwy\, Suite 100\, Arlington\, TX\, 76013\, United States
END:VEVENT
BEGIN:VEVENT
DTSTART;TZID=America/Chicago:20270112T190000
DTEND;TZID=America/Chicago:20270112T203000
DTSTAMP:20260422T164907
CREATED:20241021T211027Z
LAST-MODIFIED:20251022T155523Z
UID:10000054-1799780400-1799785800@laborerslocal154.org
SUMMARY:Union Meeting
DESCRIPTION:
URL:https://laborerslocal154.org/event/union-meeting/2027-01-12/
LOCATION:LiUNA! 154 Union Hall\, 1110 West Pioneer Prkwy\, Suite 100\, Arlington\, TX\, 76013\, United States
ATTACH;FMTTYPE=image/png:https://laborerslocal154.org/wp-content/uploads/2023/02/liuna-logo_local154.png
END:VEVENT
BEGIN:VEVENT
DTSTART;TZID=America/Chicago:20270204T190000
DTEND;TZID=America/Chicago:20270204T200000
DTSTAMP:20260422T164907
CREATED:20241021T211704Z
LAST-MODIFIED:20251022T155556Z
UID:10000115-1801767600-1801771200@laborerslocal154.org
SUMMARY:Retiree Council
DESCRIPTION:
URL:https://laborerslocal154.org/event/retiree-council/2027-02-04/
LOCATION:LiUNA! 154 Union Hall\, 1110 West Pioneer Prkwy\, Suite 100\, Arlington\, TX\, 76013\, United States
END:VEVENT
BEGIN:VEVENT
DTSTART;TZID=America/Chicago:20270209T190000
DTEND;TZID=America/Chicago:20270209T203000
DTSTAMP:20260422T164907
CREATED:20241021T211027Z
LAST-MODIFIED:20251022T155523Z
UID:10000055-1802199600-1802205000@laborerslocal154.org
SUMMARY:Union Meeting
DESCRIPTION:
URL:https://laborerslocal154.org/event/union-meeting/2027-02-09/
LOCATION:LiUNA! 154 Union Hall\, 1110 West Pioneer Prkwy\, Suite 100\, Arlington\, TX\, 76013\, United States
ATTACH;FMTTYPE=image/png:https://laborerslocal154.org/wp-content/uploads/2023/02/liuna-logo_local154.png
END:VEVENT
BEGIN:VEVENT
DTSTART;TZID=America/Chicago:20270304T190000
DTEND;TZID=America/Chicago:20270304T200000
DTSTAMP:20260422T164907
CREATED:20241021T211704Z
LAST-MODIFIED:20251022T155556Z
UID:10000116-1804186800-1804190400@laborerslocal154.org
SUMMARY:Retiree Council
DESCRIPTION:
URL:https://laborerslocal154.org/event/retiree-council/2027-03-04/
LOCATION:LiUNA! 154 Union Hall\, 1110 West Pioneer Prkwy\, Suite 100\, Arlington\, TX\, 76013\, United States
END:VEVENT
BEGIN:VEVENT
DTSTART;TZID=America/Chicago:20270309T190000
DTEND;TZID=America/Chicago:20270309T203000
DTSTAMP:20260422T164907
CREATED:20241021T211027Z
LAST-MODIFIED:20251022T155523Z
UID:10000056-1804618800-1804624200@laborerslocal154.org
SUMMARY:Union Meeting
DESCRIPTION:
URL:https://laborerslocal154.org/event/union-meeting/2027-03-09/
LOCATION:LiUNA! 154 Union Hall\, 1110 West Pioneer Prkwy\, Suite 100\, Arlington\, TX\, 76013\, United States
ATTACH;FMTTYPE=image/png:https://laborerslocal154.org/wp-content/uploads/2023/02/liuna-logo_local154.png
END:VEVENT
BEGIN:VEVENT
DTSTART;TZID=America/Chicago:20270401T190000
DTEND;TZID=America/Chicago:20270401T200000
DTSTAMP:20260422T164907
CREATED:20241021T211704Z
LAST-MODIFIED:20251022T155556Z
UID:10000117-1806606000-1806609600@laborerslocal154.org
SUMMARY:Retiree Council
DESCRIPTION:
URL:https://laborerslocal154.org/event/retiree-council/2027-04-01/
LOCATION:LiUNA! 154 Union Hall\, 1110 West Pioneer Prkwy\, Suite 100\, Arlington\, TX\, 76013\, United States
END:VEVENT
BEGIN:VEVENT
DTSTART;TZID=America/Chicago:20270413T190000
DTEND;TZID=America/Chicago:20270413T203000
DTSTAMP:20260422T164907
CREATED:20241021T211027Z
LAST-MODIFIED:20251022T155523Z
UID:10000057-1807642800-1807648200@laborerslocal154.org
SUMMARY:Union Meeting
DESCRIPTION:
URL:https://laborerslocal154.org/event/union-meeting/2027-04-13/
LOCATION:LiUNA! 154 Union Hall\, 1110 West Pioneer Prkwy\, Suite 100\, Arlington\, TX\, 76013\, United States
ATTACH;FMTTYPE=image/png:https://laborerslocal154.org/wp-content/uploads/2023/02/liuna-logo_local154.png
END:VEVENT
BEGIN:VEVENT
DTSTART;TZID=America/Chicago:20270506T190000
DTEND;TZID=America/Chicago:20270506T200000
DTSTAMP:20260422T164907
CREATED:20241021T211704Z
LAST-MODIFIED:20251022T155556Z
UID:10000118-1809630000-1809633600@laborerslocal154.org
SUMMARY:Retiree Council
DESCRIPTION:
URL:https://laborerslocal154.org/event/retiree-council/2027-05-06/
LOCATION:LiUNA! 154 Union Hall\, 1110 West Pioneer Prkwy\, Suite 100\, Arlington\, TX\, 76013\, United States
END:VEVENT
BEGIN:VEVENT
DTSTART;TZID=America/Chicago:20270511T190000
DTEND;TZID=America/Chicago:20270511T203000
DTSTAMP:20260422T164907
CREATED:20241021T211027Z
LAST-MODIFIED:20251022T155523Z
UID:10000058-1810062000-1810067400@laborerslocal154.org
SUMMARY:Union Meeting
DESCRIPTION:
URL:https://laborerslocal154.org/event/union-meeting/2027-05-11/
LOCATION:LiUNA! 154 Union Hall\, 1110 West Pioneer Prkwy\, Suite 100\, Arlington\, TX\, 76013\, United States
ATTACH;FMTTYPE=image/png:https://laborerslocal154.org/wp-content/uploads/2023/02/liuna-logo_local154.png
END:VEVENT
BEGIN:VEVENT
DTSTART;VALUE=DATE:20270524
DTEND;VALUE=DATE:20270525
DTSTAMP:20260422T164907
CREATED:20251022T155808Z
LAST-MODIFIED:20251022T155808Z
UID:10000176-1811116800-1811203199@laborerslocal154.org
SUMMARY:Memorial Day
DESCRIPTION:
URL:https://laborerslocal154.org/event/memorial-day/2027-05-24/
END:VEVENT
BEGIN:VEVENT
DTSTART;TZID=America/Chicago:20270603T190000
DTEND;TZID=America/Chicago:20270603T200000
DTSTAMP:20260422T164907
CREATED:20241021T211704Z
LAST-MODIFIED:20251022T155556Z
UID:10000119-1812049200-1812052800@laborerslocal154.org
SUMMARY:Retiree Council
DESCRIPTION:
URL:https://laborerslocal154.org/event/retiree-council/2027-06-03/
LOCATION:LiUNA! 154 Union Hall\, 1110 West Pioneer Prkwy\, Suite 100\, Arlington\, TX\, 76013\, United States
END:VEVENT
BEGIN:VEVENT
DTSTART;TZID=America/Chicago:20270608T190000
DTEND;TZID=America/Chicago:20270608T203000
DTSTAMP:20260422T164907
CREATED:20241021T211027Z
LAST-MODIFIED:20251022T155523Z
UID:10000059-1812481200-1812486600@laborerslocal154.org
SUMMARY:Union Meeting
DESCRIPTION:
URL:https://laborerslocal154.org/event/union-meeting/2027-06-08/
LOCATION:LiUNA! 154 Union Hall\, 1110 West Pioneer Prkwy\, Suite 100\, Arlington\, TX\, 76013\, United States
ATTACH;FMTTYPE=image/png:https://laborerslocal154.org/wp-content/uploads/2023/02/liuna-logo_local154.png
END:VEVENT
BEGIN:VEVENT
DTSTART;TZID=America/Chicago:20270701T190000
DTEND;TZID=America/Chicago:20270701T200000
DTSTAMP:20260422T164907
CREATED:20241021T211704Z
LAST-MODIFIED:20251022T155556Z
UID:10000120-1814468400-1814472000@laborerslocal154.org
SUMMARY:Retiree Council
DESCRIPTION:
URL:https://laborerslocal154.org/event/retiree-council/2027-07-01/
LOCATION:LiUNA! 154 Union Hall\, 1110 West Pioneer Prkwy\, Suite 100\, Arlington\, TX\, 76013\, United States
END:VEVENT
BEGIN:VEVENT
DTSTART;VALUE=DATE:20270704
DTEND;VALUE=DATE:20270705
DTSTAMP:20260422T164907
CREATED:20251022T155900Z
LAST-MODIFIED:20251022T155900Z
UID:10000181-1814659200-1814745599@laborerslocal154.org
SUMMARY:Independence Day
DESCRIPTION:
URL:https://laborerslocal154.org/event/independence-day/2027-07-04/
END:VEVENT
END:VCALENDAR