BEGIN:VCALENDAR
VERSION:2.0
PRODID:-//LiUNA! Local 154 - ECPv6.15.20//NONSGML v1.0//EN
CALSCALE:GREGORIAN
METHOD:PUBLISH
X-WR-CALNAME:LiUNA! Local 154
X-ORIGINAL-URL:https://laborerslocal154.org
X-WR-CALDESC:Events for LiUNA! Local 154
REFRESH-INTERVAL;VALUE=DURATION:PT1H
X-Robots-Tag:noindex
X-PUBLISHED-TTL:PT1H
BEGIN:VTIMEZONE
TZID:America/Chicago
BEGIN:DAYLIGHT
TZOFFSETFROM:-0600
TZOFFSETTO:-0500
TZNAME:CDT
DTSTART:20260308T080000
END:DAYLIGHT
BEGIN:STANDARD
TZOFFSETFROM:-0500
TZOFFSETTO:-0600
TZNAME:CST
DTSTART:20261101T070000
END:STANDARD
BEGIN:DAYLIGHT
TZOFFSETFROM:-0600
TZOFFSETTO:-0500
TZNAME:CDT
DTSTART:20270314T080000
END:DAYLIGHT
BEGIN:STANDARD
TZOFFSETFROM:-0500
TZOFFSETTO:-0600
TZNAME:CST
DTSTART:20271107T070000
END:STANDARD
BEGIN:DAYLIGHT
TZOFFSETFROM:-0600
TZOFFSETTO:-0500
TZNAME:CDT
DTSTART:20280312T080000
END:DAYLIGHT
BEGIN:STANDARD
TZOFFSETFROM:-0500
TZOFFSETTO:-0600
TZNAME:CST
DTSTART:20281105T070000
END:STANDARD
BEGIN:DAYLIGHT
TZOFFSETFROM:-0600
TZOFFSETTO:-0500
TZNAME:CDT
DTSTART:20290311T080000
END:DAYLIGHT
BEGIN:STANDARD
TZOFFSETFROM:-0500
TZOFFSETTO:-0600
TZNAME:CST
DTSTART:20291104T070000
END:STANDARD
END:VTIMEZONE
BEGIN:VEVENT
DTSTART;TZID=America/Chicago:20270603T190000
DTEND;TZID=America/Chicago:20270603T200000
DTSTAMP:20260422T174624
CREATED:20241021T211704Z
LAST-MODIFIED:20251022T155556Z
UID:10000119-1812049200-1812052800@laborerslocal154.org
SUMMARY:Retiree Council
DESCRIPTION:
URL:https://laborerslocal154.org/event/retiree-council/2027-06-03/
LOCATION:LiUNA! 154 Union Hall\, 1110 West Pioneer Prkwy\, Suite 100\, Arlington\, TX\, 76013\, United States
END:VEVENT
BEGIN:VEVENT
DTSTART;TZID=America/Chicago:20270608T190000
DTEND;TZID=America/Chicago:20270608T203000
DTSTAMP:20260422T174624
CREATED:20241021T211027Z
LAST-MODIFIED:20251022T155523Z
UID:10000059-1812481200-1812486600@laborerslocal154.org
SUMMARY:Union Meeting
DESCRIPTION:
URL:https://laborerslocal154.org/event/union-meeting/2027-06-08/
LOCATION:LiUNA! 154 Union Hall\, 1110 West Pioneer Prkwy\, Suite 100\, Arlington\, TX\, 76013\, United States
ATTACH;FMTTYPE=image/png:https://laborerslocal154.org/wp-content/uploads/2023/02/liuna-logo_local154.png
END:VEVENT
BEGIN:VEVENT
DTSTART;TZID=America/Chicago:20270701T190000
DTEND;TZID=America/Chicago:20270701T200000
DTSTAMP:20260422T174624
CREATED:20241021T211704Z
LAST-MODIFIED:20251022T155556Z
UID:10000120-1814468400-1814472000@laborerslocal154.org
SUMMARY:Retiree Council
DESCRIPTION:
URL:https://laborerslocal154.org/event/retiree-council/2027-07-01/
LOCATION:LiUNA! 154 Union Hall\, 1110 West Pioneer Prkwy\, Suite 100\, Arlington\, TX\, 76013\, United States
END:VEVENT
BEGIN:VEVENT
DTSTART;VALUE=DATE:20270704
DTEND;VALUE=DATE:20270705
DTSTAMP:20260422T174624
CREATED:20251022T155900Z
LAST-MODIFIED:20251022T155900Z
UID:10000181-1814659200-1814745599@laborerslocal154.org
SUMMARY:Independence Day
DESCRIPTION:
URL:https://laborerslocal154.org/event/independence-day/2027-07-04/
LOCATION:TX
END:VEVENT
BEGIN:VEVENT
DTSTART;TZID=America/Chicago:20270713T190000
DTEND;TZID=America/Chicago:20270713T203000
DTSTAMP:20260422T174624
CREATED:20241021T211027Z
LAST-MODIFIED:20251022T155523Z
UID:10000060-1815505200-1815510600@laborerslocal154.org
SUMMARY:Union Meeting
DESCRIPTION:
URL:https://laborerslocal154.org/event/union-meeting/2027-07-13/
LOCATION:LiUNA! 154 Union Hall\, 1110 West Pioneer Prkwy\, Suite 100\, Arlington\, TX\, 76013\, United States
ATTACH;FMTTYPE=image/png:https://laborerslocal154.org/wp-content/uploads/2023/02/liuna-logo_local154.png
END:VEVENT
BEGIN:VEVENT
DTSTART;TZID=America/Chicago:20270805T190000
DTEND;TZID=America/Chicago:20270805T200000
DTSTAMP:20260422T174624
CREATED:20241021T211704Z
LAST-MODIFIED:20251022T155556Z
UID:10000121-1817492400-1817496000@laborerslocal154.org
SUMMARY:Retiree Council
DESCRIPTION:
URL:https://laborerslocal154.org/event/retiree-council/2027-08-05/
LOCATION:LiUNA! 154 Union Hall\, 1110 West Pioneer Prkwy\, Suite 100\, Arlington\, TX\, 76013\, United States
END:VEVENT
BEGIN:VEVENT
DTSTART;TZID=America/Chicago:20270810T190000
DTEND;TZID=America/Chicago:20270810T203000
DTSTAMP:20260422T174624
CREATED:20241021T211027Z
LAST-MODIFIED:20251022T155523Z
UID:10000061-1817924400-1817929800@laborerslocal154.org
SUMMARY:Union Meeting
DESCRIPTION:
URL:https://laborerslocal154.org/event/union-meeting/2027-08-10/
LOCATION:LiUNA! 154 Union Hall\, 1110 West Pioneer Prkwy\, Suite 100\, Arlington\, TX\, 76013\, United States
ATTACH;FMTTYPE=image/png:https://laborerslocal154.org/wp-content/uploads/2023/02/liuna-logo_local154.png
END:VEVENT
BEGIN:VEVENT
DTSTART;TZID=America/Chicago:20270902T190000
DTEND;TZID=America/Chicago:20270902T200000
DTSTAMP:20260422T174624
CREATED:20241021T211704Z
LAST-MODIFIED:20251022T155556Z
UID:10000122-1819911600-1819915200@laborerslocal154.org
SUMMARY:Retiree Council
DESCRIPTION:
URL:https://laborerslocal154.org/event/retiree-council/2027-09-02/
LOCATION:LiUNA! 154 Union Hall\, 1110 West Pioneer Prkwy\, Suite 100\, Arlington\, TX\, 76013\, United States
END:VEVENT
BEGIN:VEVENT
DTSTART;VALUE=DATE:20270906
DTEND;VALUE=DATE:20270907
DTSTAMP:20260422T174624
CREATED:20251022T155741Z
LAST-MODIFIED:20251022T155741Z
UID:10000171-1820188800-1820275199@laborerslocal154.org
SUMMARY:Labor Day
DESCRIPTION:
URL:https://laborerslocal154.org/event/labor-day/2027-09-06/
LOCATION:TX
END:VEVENT
BEGIN:VEVENT
DTSTART;TZID=America/Chicago:20270914T190000
DTEND;TZID=America/Chicago:20270914T203000
DTSTAMP:20260422T174624
CREATED:20241021T211027Z
LAST-MODIFIED:20251022T155523Z
UID:10000062-1820948400-1820953800@laborerslocal154.org
SUMMARY:Union Meeting
DESCRIPTION:
URL:https://laborerslocal154.org/event/union-meeting/2027-09-14/
LOCATION:LiUNA! 154 Union Hall\, 1110 West Pioneer Prkwy\, Suite 100\, Arlington\, TX\, 76013\, United States
ATTACH;FMTTYPE=image/png:https://laborerslocal154.org/wp-content/uploads/2023/02/liuna-logo_local154.png
END:VEVENT
BEGIN:VEVENT
DTSTART;TZID=America/Chicago:20271007T190000
DTEND;TZID=America/Chicago:20271007T200000
DTSTAMP:20260422T174624
CREATED:20241021T211704Z
LAST-MODIFIED:20251022T155556Z
UID:10000123-1822935600-1822939200@laborerslocal154.org
SUMMARY:Retiree Council
DESCRIPTION:
URL:https://laborerslocal154.org/event/retiree-council/2027-10-07/
LOCATION:LiUNA! 154 Union Hall\, 1110 West Pioneer Prkwy\, Suite 100\, Arlington\, TX\, 76013\, United States
END:VEVENT
BEGIN:VEVENT
DTSTART;TZID=America/Chicago:20271012T190000
DTEND;TZID=America/Chicago:20271012T203000
DTSTAMP:20260422T174624
CREATED:20241021T211027Z
LAST-MODIFIED:20251022T155523Z
UID:10000063-1823367600-1823373000@laborerslocal154.org
SUMMARY:Union Meeting
DESCRIPTION:
URL:https://laborerslocal154.org/event/union-meeting/2027-10-12/
LOCATION:LiUNA! 154 Union Hall\, 1110 West Pioneer Prkwy\, Suite 100\, Arlington\, TX\, 76013\, United States
ATTACH;FMTTYPE=image/png:https://laborerslocal154.org/wp-content/uploads/2023/02/liuna-logo_local154.png
END:VEVENT
BEGIN:VEVENT
DTSTART;TZID=America/Chicago:20271104T190000
DTEND;TZID=America/Chicago:20271104T200000
DTSTAMP:20260422T174624
CREATED:20241021T211704Z
LAST-MODIFIED:20251022T155556Z
UID:10000124-1825354800-1825358400@laborerslocal154.org
SUMMARY:Retiree Council
DESCRIPTION:
URL:https://laborerslocal154.org/event/retiree-council/2027-11-04/
LOCATION:LiUNA! 154 Union Hall\, 1110 West Pioneer Prkwy\, Suite 100\, Arlington\, TX\, 76013\, United States
END:VEVENT
BEGIN:VEVENT
DTSTART;TZID=America/Chicago:20271109T190000
DTEND;TZID=America/Chicago:20271109T203000
DTSTAMP:20260422T174624
CREATED:20241021T211027Z
LAST-MODIFIED:20251022T155523Z
UID:10000064-1825786800-1825792200@laborerslocal154.org
SUMMARY:Union Meeting
DESCRIPTION:
URL:https://laborerslocal154.org/event/union-meeting/2027-11-09/
LOCATION:LiUNA! 154 Union Hall\, 1110 West Pioneer Prkwy\, Suite 100\, Arlington\, TX\, 76013\, United States
ATTACH;FMTTYPE=image/png:https://laborerslocal154.org/wp-content/uploads/2023/02/liuna-logo_local154.png
END:VEVENT
BEGIN:VEVENT
DTSTART;VALUE=DATE:20271111
DTEND;VALUE=DATE:20271112
DTSTAMP:20260422T174624
CREATED:20251022T155629Z
LAST-MODIFIED:20251022T155629Z
UID:10000162-1825891200-1825977599@laborerslocal154.org
SUMMARY:Veterans Day
DESCRIPTION:
URL:https://laborerslocal154.org/event/veterans-day/2027-11-11/
LOCATION:TX
END:VEVENT
BEGIN:VEVENT
DTSTART;VALUE=DATE:20271125
DTEND;VALUE=DATE:20271126
DTSTAMP:20260422T174624
CREATED:20241019T152116Z
LAST-MODIFIED:20251022T155456Z
UID:10000037-1827100800-1827187199@laborerslocal154.org
SUMMARY:Thanksgiving
DESCRIPTION:
URL:https://laborerslocal154.org/event/thanksgiving/2027-11-25/
LOCATION:TX
END:VEVENT
BEGIN:VEVENT
DTSTART;TZID=America/Chicago:20271202T190000
DTEND;TZID=America/Chicago:20271202T200000
DTSTAMP:20260422T174624
CREATED:20241021T211704Z
LAST-MODIFIED:20251022T155556Z
UID:10000125-1827774000-1827777600@laborerslocal154.org
SUMMARY:Retiree Council
DESCRIPTION:
URL:https://laborerslocal154.org/event/retiree-council/2027-12-02/
LOCATION:LiUNA! 154 Union Hall\, 1110 West Pioneer Prkwy\, Suite 100\, Arlington\, TX\, 76013\, United States
END:VEVENT
BEGIN:VEVENT
DTSTART;TZID=America/Chicago:20271214T190000
DTEND;TZID=America/Chicago:20271214T203000
DTSTAMP:20260422T174624
CREATED:20241021T211027Z
LAST-MODIFIED:20251022T155523Z
UID:10000065-1828810800-1828816200@laborerslocal154.org
SUMMARY:Union Meeting
DESCRIPTION:
URL:https://laborerslocal154.org/event/union-meeting/2027-12-14/
LOCATION:LiUNA! 154 Union Hall\, 1110 West Pioneer Prkwy\, Suite 100\, Arlington\, TX\, 76013\, United States
ATTACH;FMTTYPE=image/png:https://laborerslocal154.org/wp-content/uploads/2023/02/liuna-logo_local154.png
END:VEVENT
BEGIN:VEVENT
DTSTART;VALUE=DATE:20271225
DTEND;VALUE=DATE:20271226
DTSTAMP:20260422T174624
CREATED:20241118T162928Z
LAST-MODIFIED:20251022T155437Z
UID:10000032-1829692800-1829779199@laborerslocal154.org
SUMMARY:Christmas
DESCRIPTION:
URL:https://laborerslocal154.org/event/christmas/2027-12-25/
LOCATION:TX
END:VEVENT
BEGIN:VEVENT
DTSTART;VALUE=DATE:20280101
DTEND;VALUE=DATE:20280102
DTSTAMP:20260422T174624
CREATED:20251022T155701Z
LAST-MODIFIED:20251022T155701Z
UID:10000167-1830297600-1830383999@laborerslocal154.org
SUMMARY:New Year's Day
DESCRIPTION:
URL:https://laborerslocal154.org/event/new-years-day/2028-01-01/
LOCATION:TX
END:VEVENT
BEGIN:VEVENT
DTSTART;TZID=America/Chicago:20280106T190000
DTEND;TZID=America/Chicago:20280106T200000
DTSTAMP:20260422T174624
CREATED:20241021T211704Z
LAST-MODIFIED:20251022T155556Z
UID:10000126-1830798000-1830801600@laborerslocal154.org
SUMMARY:Retiree Council
DESCRIPTION:
URL:https://laborerslocal154.org/event/retiree-council/2028-01-06/
LOCATION:LiUNA! 154 Union Hall\, 1110 West Pioneer Prkwy\, Suite 100\, Arlington\, TX\, 76013\, United States
END:VEVENT
BEGIN:VEVENT
DTSTART;TZID=America/Chicago:20280111T190000
DTEND;TZID=America/Chicago:20280111T203000
DTSTAMP:20260422T174624
CREATED:20241021T211027Z
LAST-MODIFIED:20251022T155523Z
UID:10000066-1831230000-1831235400@laborerslocal154.org
SUMMARY:Union Meeting
DESCRIPTION:
URL:https://laborerslocal154.org/event/union-meeting/2028-01-11/
LOCATION:LiUNA! 154 Union Hall\, 1110 West Pioneer Prkwy\, Suite 100\, Arlington\, TX\, 76013\, United States
ATTACH;FMTTYPE=image/png:https://laborerslocal154.org/wp-content/uploads/2023/02/liuna-logo_local154.png
END:VEVENT
BEGIN:VEVENT
DTSTART;TZID=America/Chicago:20280203T190000
DTEND;TZID=America/Chicago:20280203T200000
DTSTAMP:20260422T174624
CREATED:20241021T211704Z
LAST-MODIFIED:20251022T155556Z
UID:10000127-1833217200-1833220800@laborerslocal154.org
SUMMARY:Retiree Council
DESCRIPTION:
URL:https://laborerslocal154.org/event/retiree-council/2028-02-03/
LOCATION:LiUNA! 154 Union Hall\, 1110 West Pioneer Prkwy\, Suite 100\, Arlington\, TX\, 76013\, United States
END:VEVENT
BEGIN:VEVENT
DTSTART;TZID=America/Chicago:20280208T190000
DTEND;TZID=America/Chicago:20280208T203000
DTSTAMP:20260422T174624
CREATED:20241021T211027Z
LAST-MODIFIED:20251022T155523Z
UID:10000067-1833649200-1833654600@laborerslocal154.org
SUMMARY:Union Meeting
DESCRIPTION:
URL:https://laborerslocal154.org/event/union-meeting/2028-02-08/
LOCATION:LiUNA! 154 Union Hall\, 1110 West Pioneer Prkwy\, Suite 100\, Arlington\, TX\, 76013\, United States
ATTACH;FMTTYPE=image/png:https://laborerslocal154.org/wp-content/uploads/2023/02/liuna-logo_local154.png
END:VEVENT
BEGIN:VEVENT
DTSTART;TZID=America/Chicago:20280302T190000
DTEND;TZID=America/Chicago:20280302T200000
DTSTAMP:20260422T174624
CREATED:20241021T211704Z
LAST-MODIFIED:20251022T155556Z
UID:10000128-1835636400-1835640000@laborerslocal154.org
SUMMARY:Retiree Council
DESCRIPTION:
URL:https://laborerslocal154.org/event/retiree-council/2028-03-02/
LOCATION:LiUNA! 154 Union Hall\, 1110 West Pioneer Prkwy\, Suite 100\, Arlington\, TX\, 76013\, United States
END:VEVENT
BEGIN:VEVENT
DTSTART;TZID=America/Chicago:20280314T190000
DTEND;TZID=America/Chicago:20280314T203000
DTSTAMP:20260422T174624
CREATED:20241021T211027Z
LAST-MODIFIED:20251022T155523Z
UID:10000068-1836673200-1836678600@laborerslocal154.org
SUMMARY:Union Meeting
DESCRIPTION:
URL:https://laborerslocal154.org/event/union-meeting/2028-03-14/
LOCATION:LiUNA! 154 Union Hall\, 1110 West Pioneer Prkwy\, Suite 100\, Arlington\, TX\, 76013\, United States
ATTACH;FMTTYPE=image/png:https://laborerslocal154.org/wp-content/uploads/2023/02/liuna-logo_local154.png
END:VEVENT
BEGIN:VEVENT
DTSTART;TZID=America/Chicago:20280406T190000
DTEND;TZID=America/Chicago:20280406T200000
DTSTAMP:20260422T174624
CREATED:20241021T211704Z
LAST-MODIFIED:20251022T155556Z
UID:10000129-1838660400-1838664000@laborerslocal154.org
SUMMARY:Retiree Council
DESCRIPTION:
URL:https://laborerslocal154.org/event/retiree-council/2028-04-06/
LOCATION:LiUNA! 154 Union Hall\, 1110 West Pioneer Prkwy\, Suite 100\, Arlington\, TX\, 76013\, United States
END:VEVENT
BEGIN:VEVENT
DTSTART;TZID=America/Chicago:20280411T190000
DTEND;TZID=America/Chicago:20280411T203000
DTSTAMP:20260422T174624
CREATED:20241021T211027Z
LAST-MODIFIED:20251022T155523Z
UID:10000069-1839092400-1839097800@laborerslocal154.org
SUMMARY:Union Meeting
DESCRIPTION:
URL:https://laborerslocal154.org/event/union-meeting/2028-04-11/
LOCATION:LiUNA! 154 Union Hall\, 1110 West Pioneer Prkwy\, Suite 100\, Arlington\, TX\, 76013\, United States
ATTACH;FMTTYPE=image/png:https://laborerslocal154.org/wp-content/uploads/2023/02/liuna-logo_local154.png
END:VEVENT
BEGIN:VEVENT
DTSTART;TZID=America/Chicago:20280504T190000
DTEND;TZID=America/Chicago:20280504T200000
DTSTAMP:20260422T174624
CREATED:20241021T211704Z
LAST-MODIFIED:20251022T155556Z
UID:10000130-1841079600-1841083200@laborerslocal154.org
SUMMARY:Retiree Council
DESCRIPTION:
URL:https://laborerslocal154.org/event/retiree-council/2028-05-04/
LOCATION:LiUNA! 154 Union Hall\, 1110 West Pioneer Prkwy\, Suite 100\, Arlington\, TX\, 76013\, United States
END:VEVENT
BEGIN:VEVENT
DTSTART;TZID=America/Chicago:20280509T190000
DTEND;TZID=America/Chicago:20280509T203000
DTSTAMP:20260422T174624
CREATED:20241021T211027Z
LAST-MODIFIED:20251022T155523Z
UID:10000070-1841511600-1841517000@laborerslocal154.org
SUMMARY:Union Meeting
DESCRIPTION:
URL:https://laborerslocal154.org/event/union-meeting/2028-05-09/
LOCATION:LiUNA! 154 Union Hall\, 1110 West Pioneer Prkwy\, Suite 100\, Arlington\, TX\, 76013\, United States
ATTACH;FMTTYPE=image/png:https://laborerslocal154.org/wp-content/uploads/2023/02/liuna-logo_local154.png
END:VEVENT
END:VCALENDAR