BEGIN:VCALENDAR
VERSION:2.0
PRODID:-//LiUNA! Local 154 - ECPv6.15.20//NONSGML v1.0//EN
CALSCALE:GREGORIAN
METHOD:PUBLISH
X-ORIGINAL-URL:https://laborerslocal154.org
X-WR-CALDESC:Events for LiUNA! Local 154
REFRESH-INTERVAL;VALUE=DURATION:PT1H
X-Robots-Tag:noindex
X-PUBLISHED-TTL:PT1H
BEGIN:VTIMEZONE
TZID:America/Chicago
BEGIN:DAYLIGHT
TZOFFSETFROM:-0600
TZOFFSETTO:-0500
TZNAME:CDT
DTSTART:20250309T080000
END:DAYLIGHT
BEGIN:STANDARD
TZOFFSETFROM:-0500
TZOFFSETTO:-0600
TZNAME:CST
DTSTART:20251102T070000
END:STANDARD
BEGIN:DAYLIGHT
TZOFFSETFROM:-0600
TZOFFSETTO:-0500
TZNAME:CDT
DTSTART:20260308T080000
END:DAYLIGHT
BEGIN:STANDARD
TZOFFSETFROM:-0500
TZOFFSETTO:-0600
TZNAME:CST
DTSTART:20261101T070000
END:STANDARD
BEGIN:DAYLIGHT
TZOFFSETFROM:-0600
TZOFFSETTO:-0500
TZNAME:CDT
DTSTART:20270314T080000
END:DAYLIGHT
BEGIN:STANDARD
TZOFFSETFROM:-0500
TZOFFSETTO:-0600
TZNAME:CST
DTSTART:20271107T070000
END:STANDARD
END:VTIMEZONE
BEGIN:VEVENT
DTSTART;TZID=America/Chicago:20260806T190000
DTEND;TZID=America/Chicago:20260806T200000
DTSTAMP:20260424T103551
CREATED:20241021T211704Z
LAST-MODIFIED:20251022T155556Z
UID:10000109-1786042800-1786046400@laborerslocal154.org
SUMMARY:Retiree Council
DESCRIPTION:
URL:https://laborerslocal154.org/event/retiree-council/2026-08-06/
LOCATION:LiUNA! 154 Union Hall\, 1110 West Pioneer Prkwy\, Suite 100\, Arlington\, TX\, 76013\, United States
END:VEVENT
BEGIN:VEVENT
DTSTART;TZID=America/Chicago:20260811T190000
DTEND;TZID=America/Chicago:20260811T203000
DTSTAMP:20260424T103551
CREATED:20241021T211027Z
LAST-MODIFIED:20251022T155523Z
UID:10000049-1786474800-1786480200@laborerslocal154.org
SUMMARY:Union Meeting
DESCRIPTION:
URL:https://laborerslocal154.org/event/union-meeting/2026-08-11/
LOCATION:LiUNA! 154 Union Hall\, 1110 West Pioneer Prkwy\, Suite 100\, Arlington\, TX\, 76013\, United States
ATTACH;FMTTYPE=image/png:https://laborerslocal154.org/wp-content/uploads/2023/02/liuna-logo_local154.png
END:VEVENT
END:VCALENDAR