BEGIN:VCALENDAR
VERSION:2.0
PRODID:-//LiUNA! Local 154 - ECPv6.15.20//NONSGML v1.0//EN
CALSCALE:GREGORIAN
METHOD:PUBLISH
X-WR-CALNAME:LiUNA! Local 154
X-ORIGINAL-URL:https://laborerslocal154.org
X-WR-CALDESC:Events for LiUNA! Local 154
REFRESH-INTERVAL;VALUE=DURATION:PT1H
X-Robots-Tag:noindex
X-PUBLISHED-TTL:PT1H
BEGIN:VTIMEZONE
TZID:America/Chicago
BEGIN:DAYLIGHT
TZOFFSETFROM:-0600
TZOFFSETTO:-0500
TZNAME:CDT
DTSTART:20260308T080000
END:DAYLIGHT
BEGIN:STANDARD
TZOFFSETFROM:-0500
TZOFFSETTO:-0600
TZNAME:CST
DTSTART:20261101T070000
END:STANDARD
BEGIN:DAYLIGHT
TZOFFSETFROM:-0600
TZOFFSETTO:-0500
TZNAME:CDT
DTSTART:20270314T080000
END:DAYLIGHT
BEGIN:STANDARD
TZOFFSETFROM:-0500
TZOFFSETTO:-0600
TZNAME:CST
DTSTART:20271107T070000
END:STANDARD
BEGIN:DAYLIGHT
TZOFFSETFROM:-0600
TZOFFSETTO:-0500
TZNAME:CDT
DTSTART:20280312T080000
END:DAYLIGHT
BEGIN:STANDARD
TZOFFSETFROM:-0500
TZOFFSETTO:-0600
TZNAME:CST
DTSTART:20281105T070000
END:STANDARD
BEGIN:DAYLIGHT
TZOFFSETFROM:-0600
TZOFFSETTO:-0500
TZNAME:CDT
DTSTART:20290311T080000
END:DAYLIGHT
BEGIN:STANDARD
TZOFFSETFROM:-0500
TZOFFSETTO:-0600
TZNAME:CST
DTSTART:20291104T070000
END:STANDARD
BEGIN:DAYLIGHT
TZOFFSETFROM:-0600
TZOFFSETTO:-0500
TZNAME:CDT
DTSTART:20300310T080000
END:DAYLIGHT
BEGIN:STANDARD
TZOFFSETFROM:-0500
TZOFFSETTO:-0600
TZNAME:CST
DTSTART:20301103T070000
END:STANDARD
BEGIN:DAYLIGHT
TZOFFSETFROM:-0600
TZOFFSETTO:-0500
TZNAME:CDT
DTSTART:20310309T080000
END:DAYLIGHT
BEGIN:STANDARD
TZOFFSETFROM:-0500
TZOFFSETTO:-0600
TZNAME:CST
DTSTART:20311102T070000
END:STANDARD
END:VTIMEZONE
BEGIN:VEVENT
DTSTART;VALUE=DATE:20270101
DTEND;VALUE=DATE:20270102
DTSTAMP:20260422T013659
CREATED:20251022T155701Z
LAST-MODIFIED:20251022T155701Z
UID:10000166-1798761600-1798847999@laborerslocal154.org
SUMMARY:New Year's Day
DESCRIPTION:
URL:https://laborerslocal154.org/event/new-years-day/2027-01-01/
END:VEVENT
BEGIN:VEVENT
DTSTART;VALUE=DATE:20280101
DTEND;VALUE=DATE:20280102
DTSTAMP:20260422T013659
CREATED:20251022T155701Z
LAST-MODIFIED:20251022T155701Z
UID:10000167-1830297600-1830383999@laborerslocal154.org
SUMMARY:New Year's Day
DESCRIPTION:
URL:https://laborerslocal154.org/event/new-years-day/2028-01-01/
END:VEVENT
BEGIN:VEVENT
DTSTART;VALUE=DATE:20290101
DTEND;VALUE=DATE:20290102
DTSTAMP:20260422T013659
CREATED:20251022T155701Z
LAST-MODIFIED:20251022T155701Z
UID:10000168-1861920000-1862006399@laborerslocal154.org
SUMMARY:New Year's Day
DESCRIPTION:
URL:https://laborerslocal154.org/event/new-years-day/2029-01-01/
END:VEVENT
BEGIN:VEVENT
DTSTART;VALUE=DATE:20300101
DTEND;VALUE=DATE:20300102
DTSTAMP:20260422T013659
CREATED:20251022T155701Z
LAST-MODIFIED:20251022T155701Z
UID:10000169-1893456000-1893542399@laborerslocal154.org
SUMMARY:New Year's Day
DESCRIPTION:
URL:https://laborerslocal154.org/event/new-years-day/2030-01-01/
END:VEVENT
END:VCALENDAR