BEGIN:VCALENDAR
VERSION:2.0
PRODID:-//LiUNA! Local 154 - ECPv6.15.20//NONSGML v1.0//EN
CALSCALE:GREGORIAN
METHOD:PUBLISH
X-ORIGINAL-URL:https://laborerslocal154.org
X-WR-CALDESC:Events for LiUNA! Local 154
REFRESH-INTERVAL;VALUE=DURATION:PT1H
X-Robots-Tag:noindex
X-PUBLISHED-TTL:PT1H
BEGIN:VTIMEZONE
TZID:America/Chicago
BEGIN:DAYLIGHT
TZOFFSETFROM:-0600
TZOFFSETTO:-0500
TZNAME:CDT
DTSTART:20240310T080000
END:DAYLIGHT
BEGIN:STANDARD
TZOFFSETFROM:-0500
TZOFFSETTO:-0600
TZNAME:CST
DTSTART:20241103T070000
END:STANDARD
BEGIN:DAYLIGHT
TZOFFSETFROM:-0600
TZOFFSETTO:-0500
TZNAME:CDT
DTSTART:20250309T080000
END:DAYLIGHT
BEGIN:STANDARD
TZOFFSETFROM:-0500
TZOFFSETTO:-0600
TZNAME:CST
DTSTART:20251102T070000
END:STANDARD
BEGIN:DAYLIGHT
TZOFFSETFROM:-0600
TZOFFSETTO:-0500
TZNAME:CDT
DTSTART:20260308T080000
END:DAYLIGHT
BEGIN:STANDARD
TZOFFSETFROM:-0500
TZOFFSETTO:-0600
TZNAME:CST
DTSTART:20261101T070000
END:STANDARD
BEGIN:DAYLIGHT
TZOFFSETFROM:-0600
TZOFFSETTO:-0500
TZNAME:CDT
DTSTART:20270314T080000
END:DAYLIGHT
BEGIN:STANDARD
TZOFFSETFROM:-0500
TZOFFSETTO:-0600
TZNAME:CST
DTSTART:20271107T070000
END:STANDARD
END:VTIMEZONE
BEGIN:VEVENT
DTSTART;TZID=America/Chicago:20260414T190000
DTEND;TZID=America/Chicago:20260414T203000
DTSTAMP:20260421T182256
CREATED:20241021T211027Z
LAST-MODIFIED:20251022T155523Z
UID:10000045-1776193200-1776198600@laborerslocal154.org
SUMMARY:Union Meeting
DESCRIPTION:
URL:https://laborerslocal154.org/event/union-meeting/2026-04-14/
LOCATION:LiUNA! 154 Union Hall\, 1110 West Pioneer Prkwy\, Suite 100\, Arlington\, TX\, 76013\, United States
ATTACH;FMTTYPE=image/png:https://laborerslocal154.org/wp-content/uploads/2023/02/liuna-logo_local154.png
END:VEVENT
BEGIN:VEVENT
DTSTART;TZID=America/Chicago:20260402T190000
DTEND;TZID=America/Chicago:20260402T200000
DTSTAMP:20260421T182256
CREATED:20241021T211704Z
LAST-MODIFIED:20251022T155556Z
UID:10000105-1775156400-1775160000@laborerslocal154.org
SUMMARY:Retiree Council
DESCRIPTION:
URL:https://laborerslocal154.org/event/retiree-council/2026-04-02/
LOCATION:LiUNA! 154 Union Hall\, 1110 West Pioneer Prkwy\, Suite 100\, Arlington\, TX\, 76013\, United States
END:VEVENT
BEGIN:VEVENT
DTSTART;TZID=America/Chicago:20260310T190000
DTEND;TZID=America/Chicago:20260310T203000
DTSTAMP:20260421T182256
CREATED:20241021T211027Z
LAST-MODIFIED:20251022T155523Z
UID:10000044-1773169200-1773174600@laborerslocal154.org
SUMMARY:Union Meeting
DESCRIPTION:
URL:https://laborerslocal154.org/event/union-meeting/2026-03-10/
LOCATION:LiUNA! 154 Union Hall\, 1110 West Pioneer Prkwy\, Suite 100\, Arlington\, TX\, 76013\, United States
ATTACH;FMTTYPE=image/png:https://laborerslocal154.org/wp-content/uploads/2023/02/liuna-logo_local154.png
END:VEVENT
BEGIN:VEVENT
DTSTART;TZID=America/Chicago:20260305T190000
DTEND;TZID=America/Chicago:20260305T200000
DTSTAMP:20260421T182256
CREATED:20241021T211704Z
LAST-MODIFIED:20251022T155556Z
UID:10000104-1772737200-1772740800@laborerslocal154.org
SUMMARY:Retiree Council
DESCRIPTION:
URL:https://laborerslocal154.org/event/retiree-council/2026-03-05/
LOCATION:LiUNA! 154 Union Hall\, 1110 West Pioneer Prkwy\, Suite 100\, Arlington\, TX\, 76013\, United States
END:VEVENT
BEGIN:VEVENT
DTSTART;TZID=America/Chicago:20260210T190000
DTEND;TZID=America/Chicago:20260210T203000
DTSTAMP:20260421T182256
CREATED:20241021T211027Z
LAST-MODIFIED:20251022T155523Z
UID:10000043-1770750000-1770755400@laborerslocal154.org
SUMMARY:Union Meeting
DESCRIPTION:
URL:https://laborerslocal154.org/event/union-meeting/2026-02-10/
LOCATION:LiUNA! 154 Union Hall\, 1110 West Pioneer Prkwy\, Suite 100\, Arlington\, TX\, 76013\, United States
ATTACH;FMTTYPE=image/png:https://laborerslocal154.org/wp-content/uploads/2023/02/liuna-logo_local154.png
END:VEVENT
BEGIN:VEVENT
DTSTART;TZID=America/Chicago:20260205T190000
DTEND;TZID=America/Chicago:20260205T200000
DTSTAMP:20260421T182256
CREATED:20241021T211704Z
LAST-MODIFIED:20251022T155556Z
UID:10000103-1770318000-1770321600@laborerslocal154.org
SUMMARY:Retiree Council
DESCRIPTION:
URL:https://laborerslocal154.org/event/retiree-council/2026-02-05/
LOCATION:LiUNA! 154 Union Hall\, 1110 West Pioneer Prkwy\, Suite 100\, Arlington\, TX\, 76013\, United States
END:VEVENT
BEGIN:VEVENT
DTSTART;TZID=America/Chicago:20260113T190000
DTEND;TZID=America/Chicago:20260113T203000
DTSTAMP:20260421T182256
CREATED:20241021T211027Z
LAST-MODIFIED:20251022T155523Z
UID:10000042-1768330800-1768336200@laborerslocal154.org
SUMMARY:Union Meeting
DESCRIPTION:
URL:https://laborerslocal154.org/event/union-meeting/2026-01-13/
LOCATION:LiUNA! 154 Union Hall\, 1110 West Pioneer Prkwy\, Suite 100\, Arlington\, TX\, 76013\, United States
ATTACH;FMTTYPE=image/png:https://laborerslocal154.org/wp-content/uploads/2023/02/liuna-logo_local154.png
END:VEVENT
BEGIN:VEVENT
DTSTART;TZID=America/Chicago:20260101T190000
DTEND;TZID=America/Chicago:20260101T200000
DTSTAMP:20260421T182256
CREATED:20241021T211704Z
LAST-MODIFIED:20251022T155556Z
UID:10000102-1767294000-1767297600@laborerslocal154.org
SUMMARY:Retiree Council
DESCRIPTION:
URL:https://laborerslocal154.org/event/retiree-council/2026-01-01/
LOCATION:LiUNA! 154 Union Hall\, 1110 West Pioneer Prkwy\, Suite 100\, Arlington\, TX\, 76013\, United States
END:VEVENT
BEGIN:VEVENT
DTSTART;TZID=America/Chicago:20251209T190000
DTEND;TZID=America/Chicago:20251209T203000
DTSTAMP:20260421T182256
CREATED:20241021T211027Z
LAST-MODIFIED:20251022T155523Z
UID:10000041-1765306800-1765312200@laborerslocal154.org
SUMMARY:Union Meeting
DESCRIPTION:
URL:https://laborerslocal154.org/event/union-meeting/2025-12-09/
LOCATION:LiUNA! 154 Union Hall\, 1110 West Pioneer Prkwy\, Suite 100\, Arlington\, TX\, 76013\, United States
ATTACH;FMTTYPE=image/png:https://laborerslocal154.org/wp-content/uploads/2023/02/liuna-logo_local154.png
END:VEVENT
BEGIN:VEVENT
DTSTART;TZID=America/Chicago:20251204T190000
DTEND;TZID=America/Chicago:20251204T200000
DTSTAMP:20260421T182256
CREATED:20241021T211704Z
LAST-MODIFIED:20251022T155556Z
UID:10000101-1764874800-1764878400@laborerslocal154.org
SUMMARY:Retiree Council
DESCRIPTION:
URL:https://laborerslocal154.org/event/retiree-council/2025-12-04/
LOCATION:LiUNA! 154 Union Hall\, 1110 West Pioneer Prkwy\, Suite 100\, Arlington\, TX\, 76013\, United States
END:VEVENT
BEGIN:VEVENT
DTSTART;TZID=America/Chicago:20251111T190000
DTEND;TZID=America/Chicago:20251111T203000
DTSTAMP:20260421T182256
CREATED:20241021T211027Z
LAST-MODIFIED:20251022T155523Z
UID:10000040-1762887600-1762893000@laborerslocal154.org
SUMMARY:Union Meeting
DESCRIPTION:
URL:https://laborerslocal154.org/event/union-meeting/2025-11-11/
LOCATION:LiUNA! 154 Union Hall\, 1110 West Pioneer Prkwy\, Suite 100\, Arlington\, TX\, 76013\, United States
ATTACH;FMTTYPE=image/png:https://laborerslocal154.org/wp-content/uploads/2023/02/liuna-logo_local154.png
END:VEVENT
BEGIN:VEVENT
DTSTART;TZID=America/Chicago:20251106T190000
DTEND;TZID=America/Chicago:20251106T200000
DTSTAMP:20260421T182256
CREATED:20241021T211704Z
LAST-MODIFIED:20251022T155556Z
UID:10000100-1762455600-1762459200@laborerslocal154.org
SUMMARY:Retiree Council
DESCRIPTION:
URL:https://laborerslocal154.org/event/retiree-council/2025-11-06/
LOCATION:LiUNA! 154 Union Hall\, 1110 West Pioneer Prkwy\, Suite 100\, Arlington\, TX\, 76013\, United States
END:VEVENT
BEGIN:VEVENT
DTSTART;TZID=America/Chicago:20251014T190000
DTEND;TZID=America/Chicago:20251014T203000
DTSTAMP:20260421T182256
CREATED:20241021T211027Z
LAST-MODIFIED:20251022T155523Z
UID:10000018-1760468400-1760473800@laborerslocal154.org
SUMMARY:Union Meeting
DESCRIPTION:
URL:https://laborerslocal154.org/event/union-meeting/2025-10-14/
LOCATION:LiUNA! 154 Union Hall\, 1110 West Pioneer Prkwy\, Suite 100\, Arlington\, TX\, 76013\, United States
ATTACH;FMTTYPE=image/png:https://laborerslocal154.org/wp-content/uploads/2023/02/liuna-logo_local154.png
END:VEVENT
BEGIN:VEVENT
DTSTART;TZID=America/Chicago:20251002T190000
DTEND;TZID=America/Chicago:20251002T200000
DTSTAMP:20260421T182256
CREATED:20241021T211704Z
LAST-MODIFIED:20251022T155556Z
UID:10000029-1759431600-1759435200@laborerslocal154.org
SUMMARY:Retiree Council
DESCRIPTION:
URL:https://laborerslocal154.org/event/retiree-council/2025-10-02/
LOCATION:LiUNA! 154 Union Hall\, 1110 West Pioneer Prkwy\, Suite 100\, Arlington\, TX\, 76013\, United States
END:VEVENT
BEGIN:VEVENT
DTSTART;TZID=America/Chicago:20250909T190000
DTEND;TZID=America/Chicago:20250909T203000
DTSTAMP:20260421T182256
CREATED:20241021T211027Z
LAST-MODIFIED:20251022T155523Z
UID:10000017-1757444400-1757449800@laborerslocal154.org
SUMMARY:Union Meeting
DESCRIPTION:
URL:https://laborerslocal154.org/event/union-meeting/2025-09-09/
LOCATION:LiUNA! 154 Union Hall\, 1110 West Pioneer Prkwy\, Suite 100\, Arlington\, TX\, 76013\, United States
ATTACH;FMTTYPE=image/png:https://laborerslocal154.org/wp-content/uploads/2023/02/liuna-logo_local154.png
END:VEVENT
BEGIN:VEVENT
DTSTART;TZID=America/Chicago:20250904T190000
DTEND;TZID=America/Chicago:20250904T200000
DTSTAMP:20260421T182256
CREATED:20241021T211704Z
LAST-MODIFIED:20251022T155556Z
UID:10000028-1757012400-1757016000@laborerslocal154.org
SUMMARY:Retiree Council
DESCRIPTION:
URL:https://laborerslocal154.org/event/retiree-council/2025-09-04/
LOCATION:LiUNA! 154 Union Hall\, 1110 West Pioneer Prkwy\, Suite 100\, Arlington\, TX\, 76013\, United States
END:VEVENT
BEGIN:VEVENT
DTSTART;TZID=America/Chicago:20250812T190000
DTEND;TZID=America/Chicago:20250812T203000
DTSTAMP:20260421T182256
CREATED:20241021T211027Z
LAST-MODIFIED:20251022T155523Z
UID:10000016-1755025200-1755030600@laborerslocal154.org
SUMMARY:Union Meeting
DESCRIPTION:
URL:https://laborerslocal154.org/event/union-meeting/2025-08-12/
LOCATION:LiUNA! 154 Union Hall\, 1110 West Pioneer Prkwy\, Suite 100\, Arlington\, TX\, 76013\, United States
ATTACH;FMTTYPE=image/png:https://laborerslocal154.org/wp-content/uploads/2023/02/liuna-logo_local154.png
END:VEVENT
BEGIN:VEVENT
DTSTART;TZID=America/Chicago:20250807T190000
DTEND;TZID=America/Chicago:20250807T200000
DTSTAMP:20260421T182256
CREATED:20241021T211704Z
LAST-MODIFIED:20251022T155556Z
UID:10000027-1754593200-1754596800@laborerslocal154.org
SUMMARY:Retiree Council
DESCRIPTION:
URL:https://laborerslocal154.org/event/retiree-council/2025-08-07/
LOCATION:LiUNA! 154 Union Hall\, 1110 West Pioneer Prkwy\, Suite 100\, Arlington\, TX\, 76013\, United States
END:VEVENT
BEGIN:VEVENT
DTSTART;TZID=America/Chicago:20250708T190000
DTEND;TZID=America/Chicago:20250708T203000
DTSTAMP:20260421T182256
CREATED:20241021T211027Z
LAST-MODIFIED:20251022T155523Z
UID:10000015-1752001200-1752006600@laborerslocal154.org
SUMMARY:Union Meeting
DESCRIPTION:
URL:https://laborerslocal154.org/event/union-meeting/2025-07-08/
LOCATION:LiUNA! 154 Union Hall\, 1110 West Pioneer Prkwy\, Suite 100\, Arlington\, TX\, 76013\, United States
ATTACH;FMTTYPE=image/png:https://laborerslocal154.org/wp-content/uploads/2023/02/liuna-logo_local154.png
END:VEVENT
BEGIN:VEVENT
DTSTART;TZID=America/Chicago:20250703T190000
DTEND;TZID=America/Chicago:20250703T200000
DTSTAMP:20260421T182256
CREATED:20241021T211704Z
LAST-MODIFIED:20251022T155556Z
UID:10000026-1751569200-1751572800@laborerslocal154.org
SUMMARY:Retiree Council
DESCRIPTION:
URL:https://laborerslocal154.org/event/retiree-council/2025-07-03/
LOCATION:LiUNA! 154 Union Hall\, 1110 West Pioneer Prkwy\, Suite 100\, Arlington\, TX\, 76013\, United States
END:VEVENT
BEGIN:VEVENT
DTSTART;TZID=America/Chicago:20250610T190000
DTEND;TZID=America/Chicago:20250610T203000
DTSTAMP:20260421T182256
CREATED:20241021T211027Z
LAST-MODIFIED:20251022T155523Z
UID:10000014-1749582000-1749587400@laborerslocal154.org
SUMMARY:Union Meeting
DESCRIPTION:
URL:https://laborerslocal154.org/event/union-meeting/2025-06-10/
LOCATION:LiUNA! 154 Union Hall\, 1110 West Pioneer Prkwy\, Suite 100\, Arlington\, TX\, 76013\, United States
ATTACH;FMTTYPE=image/png:https://laborerslocal154.org/wp-content/uploads/2023/02/liuna-logo_local154.png
END:VEVENT
BEGIN:VEVENT
DTSTART;TZID=America/Chicago:20250605T190000
DTEND;TZID=America/Chicago:20250605T200000
DTSTAMP:20260421T182256
CREATED:20241021T211704Z
LAST-MODIFIED:20251022T155556Z
UID:10000025-1749150000-1749153600@laborerslocal154.org
SUMMARY:Retiree Council
DESCRIPTION:
URL:https://laborerslocal154.org/event/retiree-council/2025-06-05/
LOCATION:LiUNA! 154 Union Hall\, 1110 West Pioneer Prkwy\, Suite 100\, Arlington\, TX\, 76013\, United States
END:VEVENT
BEGIN:VEVENT
DTSTART;TZID=America/Chicago:20250513T190000
DTEND;TZID=America/Chicago:20250513T203000
DTSTAMP:20260421T182256
CREATED:20241021T211027Z
LAST-MODIFIED:20251022T155523Z
UID:10000013-1747162800-1747168200@laborerslocal154.org
SUMMARY:Union Meeting
DESCRIPTION:
URL:https://laborerslocal154.org/event/union-meeting/2025-05-13/
LOCATION:LiUNA! 154 Union Hall\, 1110 West Pioneer Prkwy\, Suite 100\, Arlington\, TX\, 76013\, United States
ATTACH;FMTTYPE=image/png:https://laborerslocal154.org/wp-content/uploads/2023/02/liuna-logo_local154.png
END:VEVENT
BEGIN:VEVENT
DTSTART;TZID=America/Chicago:20250501T190000
DTEND;TZID=America/Chicago:20250501T200000
DTSTAMP:20260421T182256
CREATED:20241021T211704Z
LAST-MODIFIED:20251022T155556Z
UID:10000024-1746126000-1746129600@laborerslocal154.org
SUMMARY:Retiree Council
DESCRIPTION:
URL:https://laborerslocal154.org/event/retiree-council/2025-05-01/
LOCATION:LiUNA! 154 Union Hall\, 1110 West Pioneer Prkwy\, Suite 100\, Arlington\, TX\, 76013\, United States
END:VEVENT
BEGIN:VEVENT
DTSTART;TZID=America/Chicago:20250408T190000
DTEND;TZID=America/Chicago:20250408T203000
DTSTAMP:20260421T182256
CREATED:20241021T211027Z
LAST-MODIFIED:20251022T155523Z
UID:10000012-1744138800-1744144200@laborerslocal154.org
SUMMARY:Union Meeting
DESCRIPTION:
URL:https://laborerslocal154.org/event/union-meeting/2025-04-08/
LOCATION:LiUNA! 154 Union Hall\, 1110 West Pioneer Prkwy\, Suite 100\, Arlington\, TX\, 76013\, United States
ATTACH;FMTTYPE=image/png:https://laborerslocal154.org/wp-content/uploads/2023/02/liuna-logo_local154.png
END:VEVENT
BEGIN:VEVENT
DTSTART;TZID=America/Chicago:20250403T190000
DTEND;TZID=America/Chicago:20250403T200000
DTSTAMP:20260421T182256
CREATED:20241021T211704Z
LAST-MODIFIED:20251022T155556Z
UID:10000023-1743706800-1743710400@laborerslocal154.org
SUMMARY:Retiree Council
DESCRIPTION:
URL:https://laborerslocal154.org/event/retiree-council/2025-04-03/
LOCATION:LiUNA! 154 Union Hall\, 1110 West Pioneer Prkwy\, Suite 100\, Arlington\, TX\, 76013\, United States
END:VEVENT
BEGIN:VEVENT
DTSTART;TZID=America/Chicago:20250311T190000
DTEND;TZID=America/Chicago:20250311T203000
DTSTAMP:20260421T182256
CREATED:20241021T211027Z
LAST-MODIFIED:20251022T155523Z
UID:10000011-1741719600-1741725000@laborerslocal154.org
SUMMARY:Union Meeting
DESCRIPTION:
URL:https://laborerslocal154.org/event/union-meeting/2025-03-11/
LOCATION:LiUNA! 154 Union Hall\, 1110 West Pioneer Prkwy\, Suite 100\, Arlington\, TX\, 76013\, United States
ATTACH;FMTTYPE=image/png:https://laborerslocal154.org/wp-content/uploads/2023/02/liuna-logo_local154.png
END:VEVENT
BEGIN:VEVENT
DTSTART;TZID=America/Chicago:20250306T190000
DTEND;TZID=America/Chicago:20250306T200000
DTSTAMP:20260421T182256
CREATED:20241021T211704Z
LAST-MODIFIED:20251022T155556Z
UID:10000022-1741287600-1741291200@laborerslocal154.org
SUMMARY:Retiree Council
DESCRIPTION:
URL:https://laborerslocal154.org/event/retiree-council/2025-03-06/
LOCATION:LiUNA! 154 Union Hall\, 1110 West Pioneer Prkwy\, Suite 100\, Arlington\, TX\, 76013\, United States
END:VEVENT
BEGIN:VEVENT
DTSTART;TZID=America/Chicago:20250211T190000
DTEND;TZID=America/Chicago:20250211T203000
DTSTAMP:20260421T182256
CREATED:20241021T211027Z
LAST-MODIFIED:20251022T155523Z
UID:10000010-1739300400-1739305800@laborerslocal154.org
SUMMARY:Union Meeting
DESCRIPTION:
URL:https://laborerslocal154.org/event/union-meeting/2025-02-11/
LOCATION:LiUNA! 154 Union Hall\, 1110 West Pioneer Prkwy\, Suite 100\, Arlington\, TX\, 76013\, United States
ATTACH;FMTTYPE=image/png:https://laborerslocal154.org/wp-content/uploads/2023/02/liuna-logo_local154.png
END:VEVENT
BEGIN:VEVENT
DTSTART;TZID=America/Chicago:20250206T190000
DTEND;TZID=America/Chicago:20250206T200000
DTSTAMP:20260421T182256
CREATED:20241021T211704Z
LAST-MODIFIED:20251022T155556Z
UID:10000021-1738868400-1738872000@laborerslocal154.org
SUMMARY:Retiree Council
DESCRIPTION:
URL:https://laborerslocal154.org/event/retiree-council/2025-02-06/
LOCATION:LiUNA! 154 Union Hall\, 1110 West Pioneer Prkwy\, Suite 100\, Arlington\, TX\, 76013\, United States
END:VEVENT
END:VCALENDAR